<PAMDataset>
  <GeoTransform> 0.0000000000000000e+000, 1.0000000000000000e+000, 0.0000000000000000e+000, 0.0000000000000000e+000, 0.0000000000000000e+000, 1.0000000000000000e+000</GeoTransform>
  <Metadata domain="IMAGE_STRUCTURE">
    <MDI key="INTERLEAVE">PIXEL</MDI>
  </Metadata>
</PAMDataset>
