<?xml version="1.0" encoding="utf-8"?>
            <TileMap version="1.0.0" tilemapservice="http://tms.osgeo.org/1.0.0">
              <Title>Hamilton_2014.vrt</Title>
              <Abstract></Abstract>
              <SRS>EPSG:900913</SRS>
              <BoundingBox minx="43.02927347823474" miny="-80.27574687024416" maxx="43.48560391220940" maxy="-79.60272288810010"/>
              <Origin x="43.02927347823474" y="-80.27574687024416"/>
              <TileFormat width="256" height="256" mime-type="image/png" extension="png"/>
              <TileSets profile="mercator">
                <TileSet href="9" units-per-pixel="305.74811308593752" order="9"/>
        <TileSet href="10" units-per-pixel="152.87405654296876" order="10"/>
        <TileSet href="11" units-per-pixel="76.43702827148438" order="11"/>
        <TileSet href="12" units-per-pixel="38.21851413574219" order="12"/>
        <TileSet href="13" units-per-pixel="19.10925706787109" order="13"/>
        <TileSet href="14" units-per-pixel="9.55462853393555" order="14"/>
        <TileSet href="15" units-per-pixel="4.77731426696777" order="15"/>
        <TileSet href="16" units-per-pixel="2.38865713348389" order="16"/>
        <TileSet href="17" units-per-pixel="1.19432856674194" order="17"/>
        <TileSet href="18" units-per-pixel="0.59716428337097" order="18"/>
        <TileSet href="19" units-per-pixel="0.29858214168549" order="19"/>
      </TileSets>
        </TileMap>
        